BEGIN:VCALENDAR
VERSION:2.0
PRODID:-//American Mold Builder - ECPv6.15.20//NONSGML v1.0//EN
CALSCALE:GREGORIAN
METHOD:PUBLISH
X-WR-CALNAME:American Mold Builder
X-ORIGINAL-URL:https://americanmoldbuilder.com
X-WR-CALDESC:Events for American Mold Builder
REFRESH-INTERVAL;VALUE=DURATION:PT1H
X-Robots-Tag:noindex
X-PUBLISHED-TTL:PT1H
BEGIN:VTIMEZONE
TZID:America/Chicago
BEGIN:DAYLIGHT
TZOFFSETFROM:-0600
TZOFFSETTO:-0500
TZNAME:CDT
DTSTART:20190310T080000
END:DAYLIGHT
BEGIN:STANDARD
TZOFFSETFROM:-0500
TZOFFSETTO:-0600
TZNAME:CST
DTSTART:20191103T070000
END:STANDARD
BEGIN:DAYLIGHT
TZOFFSETFROM:-0600
TZOFFSETTO:-0500
TZNAME:CDT
DTSTART:20200308T080000
END:DAYLIGHT
BEGIN:STANDARD
TZOFFSETFROM:-0500
TZOFFSETTO:-0600
TZNAME:CST
DTSTART:20201101T070000
END:STANDARD
BEGIN:DAYLIGHT
TZOFFSETFROM:-0600
TZOFFSETTO:-0500
TZNAME:CDT
DTSTART:20210314T080000
END:DAYLIGHT
BEGIN:STANDARD
TZOFFSETFROM:-0500
TZOFFSETTO:-0600
TZNAME:CST
DTSTART:20211107T070000
END:STANDARD
BEGIN:DAYLIGHT
TZOFFSETFROM:-0600
TZOFFSETTO:-0500
TZNAME:CDT
DTSTART:20220313T080000
END:DAYLIGHT
BEGIN:STANDARD
TZOFFSETFROM:-0500
TZOFFSETTO:-0600
TZNAME:CST
DTSTART:20221106T070000
END:STANDARD
BEGIN:DAYLIGHT
TZOFFSETFROM:-0600
TZOFFSETTO:-0500
TZNAME:CDT
DTSTART:20230312T080000
END:DAYLIGHT
BEGIN:STANDARD
TZOFFSETFROM:-0500
TZOFFSETTO:-0600
TZNAME:CST
DTSTART:20231105T070000
END:STANDARD
END:VTIMEZONE
BEGIN:VTIMEZONE
TZID:America/New_York
BEGIN:DAYLIGHT
TZOFFSETFROM:-0500
TZOFFSETTO:-0400
TZNAME:EDT
DTSTART:20190310T070000
END:DAYLIGHT
BEGIN:STANDARD
TZOFFSETFROM:-0400
TZOFFSETTO:-0500
TZNAME:EST
DTSTART:20191103T060000
END:STANDARD
BEGIN:DAYLIGHT
TZOFFSETFROM:-0500
TZOFFSETTO:-0400
TZNAME:EDT
DTSTART:20200308T070000
END:DAYLIGHT
BEGIN:STANDARD
TZOFFSETFROM:-0400
TZOFFSETTO:-0500
TZNAME:EST
DTSTART:20201101T060000
END:STANDARD
BEGIN:DAYLIGHT
TZOFFSETFROM:-0500
TZOFFSETTO:-0400
TZNAME:EDT
DTSTART:20210314T070000
END:DAYLIGHT
BEGIN:STANDARD
TZOFFSETFROM:-0400
TZOFFSETTO:-0500
TZNAME:EST
DTSTART:20211107T060000
END:STANDARD
BEGIN:DAYLIGHT
TZOFFSETFROM:-0500
TZOFFSETTO:-0400
TZNAME:EDT
DTSTART:20220313T070000
END:DAYLIGHT
BEGIN:STANDARD
TZOFFSETFROM:-0400
TZOFFSETTO:-0500
TZNAME:EST
DTSTART:20221106T060000
END:STANDARD
BEGIN:DAYLIGHT
TZOFFSETFROM:-0500
TZOFFSETTO:-0400
TZNAME:EDT
DTSTART:20230312T070000
END:DAYLIGHT
BEGIN:STANDARD
TZOFFSETFROM:-0400
TZOFFSETTO:-0500
TZNAME:EST
DTSTART:20231105T060000
END:STANDARD
END:VTIMEZONE
BEGIN:VEVENT
DTSTART;VALUE=DATE:20221110
DTEND;VALUE=DATE:20221111
DTSTAMP:20260424T220827
CREATED:20221004T182219Z
LAST-MODIFIED:20221004T191010Z
UID:3280-1668038400-1668124799@americanmoldbuilder.com
SUMMARY:Plant Tour Workshop
DESCRIPTION:Join the AMBA community and the iMFLUX team for the next in-person plant tour workshop to witness an innovative leader in the U.S. mold manufacturing industry. Through the consistent embrace\, exploration and integration of next-level technologies\, processes and automation\, iMFLUX sets itself apart. Attendees will be exposed to a variety of areas including mold estimating and scope development\, JobBoss-ME Routing/CPS-PE customer management and mold design\, precision machining and more!
URL:https://americanmoldbuilder.com/event/plant-tour-workshop/
LOCATION:MI
CATEGORIES:Workshop
ATTACH;FMTTYPE=image/png:https://americanmoldbuilder.com/wp-content/uploads/TAMB-Featured-Image-4x3-1.png
END:VEVENT
BEGIN:VEVENT
DTSTART;VALUE=DATE:20220923
DTEND;VALUE=DATE:20220924
DTSTAMP:20260424T220827
CREATED:20220818T180450Z
LAST-MODIFIED:20220818T180601Z
UID:3193-1663891200-1663977599@americanmoldbuilder.com
SUMMARY:Registration Open for Annual iWarriors Golf Outing with Alliance Laser Sales
DESCRIPTION:Sept. 23\, 2022 | Mundelein\, IL \nJoin AMBA members and representatives of the U.S. mold manufacturing community as they come together for the annual Alliance Charity Golf Outing. Once again\, Alliance will be partnerning with iWarriors\, whose mission is to assist severely injured members of all branches of the Armed Forced by providing them with personalized tablets to aid in their return\, recovery and reintegration. \nLearn more and register at alliance-charity-golf-outing.eventlify.com.
URL:https://americanmoldbuilder.com/event/registration-open-for-annual-iwarriors-golf-outing-with-alliance-laser-sales/
LOCATION:Mundelein\, IL
ATTACH;FMTTYPE=image/png:https://americanmoldbuilder.com/wp-content/uploads/TAMB-Featured-Image-4x3-1.png
END:VEVENT
BEGIN:VEVENT
DTSTART;TZID=America/New_York:20220720T100000
DTEND;TZID=America/New_York:20220720T130000
DTSTAMP:20260424T220827
CREATED:20220623T210249Z
LAST-MODIFIED:20220623T210249Z
UID:3127-1658311200-1658322000@americanmoldbuilder.com
SUMMARY:Mold & Die Workshop
DESCRIPTION:The workshop will cover via live machining demonstrations how to optimize mold and die accuracy by combining advanced tooling\, machining and CAM technologies. Manufacturing professionals are welcome and encouraged to attend.
URL:https://americanmoldbuilder.com/event/mold-die-workshop/
LOCATION:EMUGE Technology Center\, West Boylston\, MA\, United States
CATEGORIES:Workshop
ATTACH;FMTTYPE=image/png:https://americanmoldbuilder.com/wp-content/uploads/TAMB-Featured-Image-4x3-1.png
END:VEVENT
BEGIN:VEVENT
DTSTART;VALUE=DATE:20220525
DTEND;VALUE=DATE:20220527
DTSTAMP:20260424T220827
CREATED:20220104T192707Z
LAST-MODIFIED:20220104T192707Z
UID:2788-1653436800-1653609599@americanmoldbuilder.com
SUMMARY:Injection Molding and Design Expo
DESCRIPTION:
URL:https://americanmoldbuilder.com/event/injection-molding-and-design-expo/
LOCATION:MI
ATTACH;FMTTYPE=image/png:https://americanmoldbuilder.com/wp-content/uploads/TAMB-Featured-Image-4x3-1.png
END:VEVENT
BEGIN:VEVENT
DTSTART;TZID=America/Chicago:20220511T080000
DTEND;TZID=America/Chicago:20220513T170000
DTSTAMP:20260424T220827
CREATED:20220222T161725Z
LAST-MODIFIED:20220222T161725Z
UID:2832-1652256000-1652461200@americanmoldbuilder.com
SUMMARY:AMBA Conference 2022
DESCRIPTION:
URL:https://americanmoldbuilder.com/event/amba-conference-2022/
LOCATION:The Westin Chicago Northwest\, 400 Park Blvd\, Itasca\, Illinois\, 60143
ATTACH;FMTTYPE=image/png:https://americanmoldbuilder.com/wp-content/uploads/TAMB-Featured-Image-4x3-1.png
END:VEVENT
BEGIN:VEVENT
DTSTART;VALUE=DATE:20220329
DTEND;VALUE=DATE:20220401
DTSTAMP:20260424T220827
CREATED:20211206T195839Z
LAST-MODIFIED:20211206T195839Z
UID:2715-1648512000-1648771199@americanmoldbuilder.com
SUMMARY:PTXPO
DESCRIPTION:
URL:https://americanmoldbuilder.com/event/ptxpo/
LOCATION:MI
CATEGORIES:Expo
ATTACH;FMTTYPE=image/png:https://americanmoldbuilder.com/wp-content/uploads/TAMB-Featured-Image-4x3-1.png
END:VEVENT
BEGIN:VEVENT
DTSTART;VALUE=DATE:20220316
DTEND;VALUE=DATE:20220318
DTSTAMP:20260424T220827
CREATED:20211206T195545Z
LAST-MODIFIED:20211206T195545Z
UID:2713-1647388800-1647561599@americanmoldbuilder.com
SUMMARY:Injection Molding & Design Expo
DESCRIPTION:
URL:https://americanmoldbuilder.com/event/injection-molding-design-expo/
LOCATION:MI
CATEGORIES:Expo
ATTACH;FMTTYPE=image/png:https://americanmoldbuilder.com/wp-content/uploads/TAMB-Featured-Image-4x3-1.png
END:VEVENT
BEGIN:VEVENT
DTSTART;VALUE=DATE:20220306
DTEND;VALUE=DATE:20220310
DTSTAMP:20260424T220827
CREATED:20211206T195303Z
LAST-MODIFIED:20211206T195303Z
UID:2709-1646524800-1646870399@americanmoldbuilder.com
SUMMARY:2022 Die Casting Executive Conference
DESCRIPTION:
URL:https://americanmoldbuilder.com/event/2022-die-casting-executive-conference/
LOCATION:Casa Marina Key West\, 500 Reynolds Street\, Key West\, FL\, 3304\, United States
CATEGORIES:Conference
ATTACH;FMTTYPE=image/png:https://americanmoldbuilder.com/wp-content/uploads/TAMB-Featured-Image-4x3-1.png
END:VEVENT
BEGIN:VEVENT
DTSTART;TZID=America/New_York:20211214T120000
DTEND;TZID=America/New_York:20211214T130000
DTSTAMP:20260424T220827
CREATED:20211206T194849Z
LAST-MODIFIED:20211206T194849Z
UID:2707-1639483200-1639486800@americanmoldbuilder.com
SUMMARY:Sales and Marketing Strategies - Roundtable Discussion
DESCRIPTION:
URL:https://americanmoldbuilder.com/event/sales-and-marketing-strategies-roundtable-discussion/
LOCATION:MI
CATEGORIES:Online,Roundtable Discussion,Virtual
ATTACH;FMTTYPE=image/png:https://americanmoldbuilder.com/wp-content/uploads/TAMB-Featured-Image-4x3-1.png
END:VEVENT
BEGIN:VEVENT
DTSTART;TZID=America/New_York:20211209T120000
DTEND;TZID=America/New_York:20211209T130000
DTSTAMP:20260424T220827
CREATED:20211206T194650Z
LAST-MODIFIED:20211206T194650Z
UID:2705-1639051200-1639054800@americanmoldbuilder.com
SUMMARY:Virtual Workshop: Screening and Hiring to Your Culture
DESCRIPTION:
URL:https://americanmoldbuilder.com/event/virtual-workshop-screening-and-hiring-to-your-culture/
LOCATION:MI
CATEGORIES:Online,Virtual,Workshop
ATTACH;FMTTYPE=image/png:https://americanmoldbuilder.com/wp-content/uploads/TAMB-Featured-Image-4x3-1.png
END:VEVENT
BEGIN:VEVENT
DTSTART;TZID=America/Chicago:20211208T110000
DTEND;TZID=America/Chicago:20211208T120000
DTSTAMP:20260424T220828
CREATED:20211206T194407Z
LAST-MODIFIED:20211206T194421Z
UID:2703-1638961200-1638964800@americanmoldbuilder.com
SUMMARY:Business Strategies - Management Roundtable Discussion
DESCRIPTION:
URL:https://americanmoldbuilder.com/event/business-strategies-management-roundtable-discussion/
LOCATION:MI
CATEGORIES:Online,Roundtable Discussion
ATTACH;FMTTYPE=image/png:https://americanmoldbuilder.com/wp-content/uploads/TAMB-Featured-Image-4x3-1.png
END:VEVENT
BEGIN:VEVENT
DTSTART;VALUE=DATE:20211207
DTEND;VALUE=DATE:20211210
DTSTAMP:20260424T220828
CREATED:20211206T194207Z
LAST-MODIFIED:20211206T194448Z
UID:2699-1638835200-1639094399@americanmoldbuilder.com
SUMMARY:Plastec East / MD&M East
DESCRIPTION:
URL:https://americanmoldbuilder.com/event/plastec-east-mdm-east/
LOCATION:Jacob Javits Convention Center\, New York\, NY
CATEGORIES:Convention
ATTACH;FMTTYPE=image/png:https://americanmoldbuilder.com/wp-content/uploads/TAMB-Featured-Image-4x3-1.png
END:VEVENT
BEGIN:VEVENT
DTSTART;TZID=America/Chicago:20211007T100000
DTEND;TZID=America/Chicago:20211007T100000
DTSTAMP:20260424T220828
CREATED:20210902T211436Z
LAST-MODIFIED:20210902T211436Z
UID:2614-1633600800-1633600800@americanmoldbuilder.com
SUMMARY:New Date Announced! Meet the Mentor: Leaning into Leadership
DESCRIPTION:
URL:https://americanmoldbuilder.com/event/new-date-announced-meet-the-mentor-leaning-into-leadership/
LOCATION:MI
CATEGORIES:Webinar
ATTACH;FMTTYPE=image/png:https://americanmoldbuilder.com/wp-content/uploads/TAMB-Featured-Image-4x3-1.png
END:VEVENT
BEGIN:VEVENT
DTSTART;VALUE=DATE:20210810
DTEND;VALUE=DATE:20210813
DTSTAMP:20260424T220828
CREATED:20201006T174122Z
LAST-MODIFIED:20201006T205427Z
UID:2117-1628553600-1628812799@americanmoldbuilder.com
SUMMARY:Automation Technology West (ATX)\, Medical Design & Manufacturing (MD&M) West\, Pacific Design & Manufacturing (D&M)\, PLASTEC West and WestPack
DESCRIPTION:The nation’s largest advanced manufacturing event – composed of Automation Technology West (ATX)\, Medical Design & Manufacturing (MD&M) West\, Pacific Design & Manufacturing (D&M)\, PLASTEC West\, and WestPack – announced the 2021 edition of the conference and exhibition – historically slated for the February timeframe – will now be held August 10-12\, 2021 at the Anaheim Convention Center in Anaheim\, California.
URL:https://americanmoldbuilder.com/event/automation-technology-west-atx-medical-design-manufacturing-mdm-west-pacific-design-manufacturing-dm-plastec-west-and-westpack/
LOCATION:Anaheim Convention Center\, Anaheim\, CA
CATEGORIES:Convention,Expo
ATTACH;FMTTYPE=image/png:https://americanmoldbuilder.com/wp-content/uploads/TAMB-Featured-Image-4x3-1.png
END:VEVENT
BEGIN:VEVENT
DTSTART;VALUE=DATE:20210622
DTEND;VALUE=DATE:20210625
DTSTAMP:20260424T220828
CREATED:20210429T145123Z
LAST-MODIFIED:20210429T145155Z
UID:2398-1624320000-1624579199@americanmoldbuilder.com
SUMMARY:AMBA Conference 2021
DESCRIPTION:
URL:https://americanmoldbuilder.com/event/amba-conference-2021-2/
LOCATION:Amway Grand Plaza\, Grand Rapids\, MI
CATEGORIES:Conference
ATTACH;FMTTYPE=image/png:https://americanmoldbuilder.com/wp-content/uploads/TAMB-Featured-Image-4x3-1.png
END:VEVENT
BEGIN:VEVENT
DTSTART;VALUE=DATE:20210622
DTEND;VALUE=DATE:20210625
DTSTAMP:20260424T220828
CREATED:20200318T171018Z
LAST-MODIFIED:20201209T165456Z
UID:1785-1624320000-1624579199@americanmoldbuilder.com
SUMMARY:AMBA Conference 2021
DESCRIPTION:
URL:https://americanmoldbuilder.com/event/amba-conference-2021/
LOCATION:Amway Grand Hotel\, Grand Rapids\, MI
CATEGORIES:Conference
ATTACH;FMTTYPE=image/png:https://americanmoldbuilder.com/wp-content/uploads/TAMB-Featured-Image-4x3-1.png
END:VEVENT
BEGIN:VEVENT
DTSTART;VALUE=DATE:20210615
DTEND;VALUE=DATE:20210618
DTSTAMP:20260424T220828
CREATED:20200602T161956Z
LAST-MODIFIED:20200911T203211Z
UID:1942-1623715200-1623974399@americanmoldbuilder.com
SUMMARY:PLASTEC East 2021
DESCRIPTION:Industries everywhere depend on plastic. Meet leaders at the center of it all at the region’s largest plastics and polymers event. Discover the latest thinking in injection molding\, 3D printing\, and new materials and meet thousands of professionals at the epicenter of design and manufacturing.
URL:https://americanmoldbuilder.com/event/plastec-east-2021/
LOCATION:Jacob Javits Convention Center\, New York\, NY
CATEGORIES:Convention
ATTACH;FMTTYPE=image/png:https://americanmoldbuilder.com/wp-content/uploads/TAMB-Featured-Image-4x3-1.png
END:VEVENT
BEGIN:VEVENT
DTSTART;VALUE=DATE:20210505
DTEND;VALUE=DATE:20210508
DTSTAMP:20260424T220828
CREATED:20190326T181328Z
LAST-MODIFIED:20210120T195510Z
UID:748-1620172800-1620431999@americanmoldbuilder.com
SUMMARY:ANTEC® 2021
DESCRIPTION:
URL:https://americanmoldbuilder.com/event/antec-2021/
LOCATION:Sheraton Downtown Denver\, Denver\, CO
CATEGORIES:Conference
ATTACH;FMTTYPE=image/png:https://americanmoldbuilder.com/wp-content/uploads/TAMB-Featured-Image-4x3-1.png
END:VEVENT
BEGIN:VEVENT
DTSTART;TZID=America/Chicago:20210310T080000
DTEND;TZID=America/Chicago:20210311T170000
DTSTAMP:20260424T220828
CREATED:20201209T170013Z
LAST-MODIFIED:20201209T170013Z
UID:2216-1615363200-1615482000@americanmoldbuilder.com
SUMMARY:Sales & Marketing Virtual Summit
DESCRIPTION:
URL:https://americanmoldbuilder.com/event/sales-marketing-virtual-summit/
LOCATION:MI
CATEGORIES:Virtual
ATTACH;FMTTYPE=image/png:https://americanmoldbuilder.com/wp-content/uploads/TAMB-Featured-Image-4x3-1.png
END:VEVENT
BEGIN:VEVENT
DTSTART;VALUE=DATE:20201130
DTEND;VALUE=DATE:20201205
DTSTAMP:20260424T220828
CREATED:20200923T210308Z
LAST-MODIFIED:20200923T210308Z
UID:2102-1606694400-1607126399@americanmoldbuilder.com
SUMMARY:PLASTEC Minneapolis Virtual Engineering Week 2020
DESCRIPTION:After close consultation with our industry partners\, we have agreed that it’s in the best interest of our exhibitors and attendees to cancel the 2020 in-person event and shift to a digital format. \nWe know the opportunity to connect\, learn\, and grow your business is critical\, and though we are deeply disappointed that we won’t be meeting in person this year\, we are thrilled to announce the launch of Virtual Engineering Week — coming this Fall! \nVirtual Engineering Week taking place November 30–December 4\, 2020\, was created to foster meaningful and productive engagement within the full design\, engineering\, and manufacturing communities. Look for more information coming soon about the many ways you can participate in Virtual Engineering Week.
URL:https://americanmoldbuilder.com/event/plastec-minneapolis-virtual-engineering-week-2020/
LOCATION:MI
CATEGORIES:Conference,Virtual
ATTACH;FMTTYPE=image/png:https://americanmoldbuilder.com/wp-content/uploads/TAMB-Featured-Image-4x3-1.png
END:VEVENT
BEGIN:VEVENT
DTSTART;VALUE=DATE:20201111
DTEND;VALUE=DATE:20201113
DTSTAMP:20260424T220828
CREATED:20200228T215739Z
LAST-MODIFIED:20201006T165431Z
UID:1769-1605052800-1605225599@americanmoldbuilder.com
SUMMARY:EHS Summit 2020 - A Virtual Event
DESCRIPTION:The Environmental\, Health and Safety (EHS) Summit is designed to share best leadership and safety practices with industry professionals hoping to achieve world-class safety within their companies. \nThis one-of-a-kind learning and networking conference will focus on uniting manufacturing executives from across the United States. Attendees will focus on best practices in environment\, health and safety along with becoming a better leader. \nThis Summit promises to provide high-level safety professionals with implementable ideas they can take back to their facilities to improve their operations and achieve world-class safety.
URL:https://americanmoldbuilder.com/event/ehs-summit-2020/
LOCATION:MI
CATEGORIES:Summit,Virtual
ATTACH;FMTTYPE=image/png:https://americanmoldbuilder.com/wp-content/uploads/TAMB-Featured-Image-4x3-1.png
END:VEVENT
BEGIN:VEVENT
DTSTART;VALUE=DATE:20201104
DTEND;VALUE=DATE:20201106
DTSTAMP:20260424T220828
CREATED:20201021T170035Z
LAST-MODIFIED:20201021T170035Z
UID:2133-1604448000-1604620799@americanmoldbuilder.com
SUMMARY:The Application of Continuous Improvement
DESCRIPTION:While economic uncertainty introduces stress and forces change\, it also presents a unique opportunity for business leaders to renew their focus on the application and evaluation of continuous improvement in their facilities. Through incremental process improvement and reduction of waste\, manufacturers are able to increase both their output and efficiencies\, while decreasing their footprint in an ever-increasingly competitive global market. \nDuring the AMBA’s upcoming virtual forum\, “The Application of Continuous Improvement\,” attendees will experience: \n\nExpert keynote presentations\nAMBA member and partner case studies\nReal-world examples of continuous improvement and the ROI achieved\nPeer-to-peer interactions and discussion\nBest-in-class panel discussion
URL:https://americanmoldbuilder.com/event/the-application-of-continuous-improvement/
LOCATION:MI
CATEGORIES:Forum,Virtual
ATTACH;FMTTYPE=image/png:https://americanmoldbuilder.com/wp-content/uploads/TAMB-Featured-Image-4x3-1.png
END:VEVENT
BEGIN:VEVENT
DTSTART;TZID=America/New_York:20201028T120000
DTEND;TZID=America/New_York:20201028T130000
DTSTAMP:20260424T220828
CREATED:20200910T220315Z
LAST-MODIFIED:20200910T220315Z
UID:2079-1603886400-1603890000@americanmoldbuilder.com
SUMMARY:Roundtable Discussion – Embracing the Challenges of the “Now”
DESCRIPTION:Just like today’s environment\, business conditions and expectations are changing minute-by-minute. Despite the constant chaos\, however\, today’s leaders can be sure of one thing – those who embrace the challenges before them have the unique opportunity to survive\, and even to thrive. \nJoin other industry professionals for a roundtable discussion on how they’re embracing and conquering the challenges of “now”. \nThis is a member-only event. \n 
URL:https://americanmoldbuilder.com/event/roundtable-discussion-embracing-the-challenges-of-the-now/
LOCATION:MI
CATEGORIES:Roundtable Discussion,Virtual
ATTACH;FMTTYPE=image/png:https://americanmoldbuilder.com/wp-content/uploads/TAMB-Featured-Image-4x3-1.png
END:VEVENT
BEGIN:VEVENT
DTSTART;TZID=America/New_York:20201027T120000
DTEND;TZID=America/New_York:20201027T130000
DTSTAMP:20260424T220828
CREATED:20201006T205820Z
LAST-MODIFIED:20201006T210941Z
UID:2123-1603800000-1603803600@americanmoldbuilder.com
SUMMARY:2020 Race for the White House: Politics\, Outcomes and Trade – Webinar
DESCRIPTION:In the closing weeks of the 2020 elections\, manufacturers across the country continue to wait to see in which directions voters will send American policy from trade and taxes to regulations and job training. AMBA’s lobbyist in Washington\, D.C.\, Omar S. Nashashibi with the Franklin Partnership\, will provide an insider’s insights into the race for the White House\, the chances for Democrats to take control of the U.S. Senate and whether Nancy Pelosi will serve another two years as Speaker of the U.S. House of Representatives. \nThe outcome of the presidency especially will have a significant impact on manufacturing in America and how the U.S. approaches China\, trade and other challenges. During this presentation\, attendees will get exclusive access to information related to: \n\nThe status of the race for the White House just days ahead of the November 3 vote\nWhich states may swing the election\, particularly given the uncertainty surrounding COVID-19\nHow a Biden administration would impact manufacturers\nWhat actions President Trump might take as they relate to manufacturing and mold manufacturers in particular\n\nWith so many questions facing Washington policymakers at both ends of Pennsylvania Avenue\, you won’t want to miss this timely presentation that will help your business better plan during these uncertain times.
URL:https://americanmoldbuilder.com/event/2020-race-for-the-white-house-politics-outcomes-and-trade-webinar/
LOCATION:MI
CATEGORIES:Virtual,Webinar
ATTACH;FMTTYPE=image/png:https://americanmoldbuilder.com/wp-content/uploads/TAMB-Featured-Image-4x3-1.png
END:VEVENT
BEGIN:VEVENT
DTSTART;TZID=America/New_York:20201014T090000
DTEND;TZID=America/New_York:20201014T120000
DTSTAMP:20260424T220828
CREATED:20200917T182807Z
LAST-MODIFIED:20200917T183615Z
UID:2094-1602666000-1602676800@americanmoldbuilder.com
SUMMARY:OESA 2020 Harbour Results\, Inc. Automotive Tooling Update
DESCRIPTION:Event Overview\n\n\nThe Original Equipment Suppliers Association (OESA) and Harbour Results\, Inc. (HRI) will host the 2020 Automotive Tooling Update virtually on Oct. 14\, 2020. This year has been unprecedented for the global marketplace and the industry will be feeling the impact through 2021 and\, potentially\, beyond. \nThis year’s event is shortened to focus on the automotive tooling market intelligence and insights critical for the health of individual shops and the North American manufacturing industry today and in the future. \nWith the presidential election on the horizon\, Omar Nashashibi\, founding partner of The Franklin Partnership will review how the presidential race outcome will impact the economy\, manufacturing\, tariffs and trade. \nIn addition\, Cara Walton\, engagement manager\, Harbour Results\, Inc. (HRI)\, will provide an economic forecast that looks at the affect the COVID-19 pandemic has had on the marketplace as well as what to expect in the future. \nFinally\, Laurie Harbour\, president and CEO\, HRI\, will provide an automotive industry forecast and how it will impact the entire supply chain\, including tool and die makers. This will include a tooling forecast for the next several years as well as best practices shops should be utilizing to recover from the COVID crisis. \nExecutives from tool shops who have or are interested in automotive business including Tier 1 suppliers\, OEM purchasing\, and sales\, marketing and engineering professionals in the automotive mold and die industry should plan to attend. The information shared during this virtual event will help companies across the entire automotive supply chain as they plan for the future.
URL:https://americanmoldbuilder.com/event/oesa-2020-harbour-results-inc-automotive-tooling-update/
LOCATION:MI
CATEGORIES:Virtual,Workshop
ATTACH;FMTTYPE=image/png:https://americanmoldbuilder.com/wp-content/uploads/TAMB-Featured-Image-4x3-1.png
END:VEVENT
BEGIN:VEVENT
DTSTART;VALUE=DATE:20200928
DTEND;VALUE=DATE:20201001
DTSTAMP:20260424T220828
CREATED:20200910T145529Z
LAST-MODIFIED:20200910T145529Z
UID:2064-1601251200-1601510399@americanmoldbuilder.com
SUMMARY:Moldex3D Digital Twin Live 2020
DESCRIPTION:Moldex3D sincerely invite you to join us on Moldex3D Digital Twin Live 2020.  It is a 3-day global LIVE conference starting from September 28 – 30. \nDigital Twin presents real-world condition and allows us to achieve better molding optimization. Moldex3D helps you to gain more accurate results and smoother process through simulating in a digital world. Making Digital Twin possible is exactly what we do for molding simulation at Moldex3D!
URL:https://americanmoldbuilder.com/event/moldex3d-digital-twin-live-2020/
LOCATION:MI
CATEGORIES:Conference,Online
ATTACH;FMTTYPE=image/png:https://americanmoldbuilder.com/wp-content/uploads/TAMB-Featured-Image-4x3-1.png
END:VEVENT
BEGIN:VEVENT
DTSTART;TZID=America/Chicago:20200923T110000
DTEND;TZID=America/Chicago:20200923T120000
DTSTAMP:20260424T220828
CREATED:20200910T220602Z
LAST-MODIFIED:20200910T220602Z
UID:2081-1600858800-1600862400@americanmoldbuilder.com
SUMMARY:Lead Generation and Marketing Strategy in a Virtual World: Tactical “To Dos”
DESCRIPTION:As all mold builders navigate the second half of the year in the COVID-19 environment\, many are realizing the need to shake up their lead generation and marketing strategies\, but are struggling to understand how to make personal\, meaningful connections when virtual meetings are the new norm. \nJoin Shelly Otenbaker\, president at Waypoint Communications\, as she shares tactical\, immediately actionable “to-dos” that enable sales and marketing professionals to successfully engage potential customers. The second half of her presentation will allow for attendees to share situational challenges where Otenbaker will then provide case-by-case insights and practical implementation examples.
URL:https://americanmoldbuilder.com/event/lead-generation-and-marketing-strategy-in-a-virtual-world-tactical-to-dos/
LOCATION:MI
CATEGORIES:Virtual,Workshop
ATTACH;FMTTYPE=image/png:https://americanmoldbuilder.com/wp-content/uploads/TAMB-Featured-Image-4x3-1.png
END:VEVENT
BEGIN:VEVENT
DTSTART;TZID=America/New_York:20200813T080000
DTEND;TZID=America/New_York:20200813T140000
DTSTAMP:20260424T220828
CREATED:20200602T161126Z
LAST-MODIFIED:20200602T161126Z
UID:1938-1597305600-1597327200@americanmoldbuilder.com
SUMMARY:AMBA Plant Tour Workshop: Century Die Co.
DESCRIPTION:
URL:https://americanmoldbuilder.com/event/amba-plant-tour-workshop-century-die-co/
LOCATION:Century Die Co.\, Fremont\, OH
CATEGORIES:Workshop
ATTACH;FMTTYPE=image/png:https://americanmoldbuilder.com/wp-content/uploads/TAMB-Featured-Image-4x3-1.png
END:VEVENT
BEGIN:VEVENT
DTSTART;VALUE=DATE:20200722
DTEND;VALUE=DATE:20200725
DTSTAMP:20260424T220828
CREATED:20191211T221608Z
LAST-MODIFIED:20191211T221616Z
UID:1691-1595376000-1595635199@americanmoldbuilder.com
SUMMARY:Young Professionals Leadership Summit
DESCRIPTION:
URL:https://americanmoldbuilder.com/event/young-professionals-leadership-summit/
LOCATION:MI
ATTACH;FMTTYPE=image/png:https://americanmoldbuilder.com/wp-content/uploads/TAMB-Featured-Image-4x3-1.png
END:VEVENT
BEGIN:VEVENT
DTSTART;TZID=America/New_York:20200616T120000
DTEND;TZID=America/New_York:20200616T130000
DTSTAMP:20260424T220828
CREATED:20200602T143605Z
LAST-MODIFIED:20200602T143605Z
UID:1934-1592308800-1592312400@americanmoldbuilder.com
SUMMARY:The New Normal: Best Practices for Minimizing Employment and Financial Risk in COVID-19 Era
DESCRIPTION:As the country pivots to reopening\, questions abound on how employers can safely maintain operations while dealing with a cautious workforce and an uncertain economy. \nJoin Alan Rothenbuecher and Johanna Parker from Benesch as they discuss: \n\nThe legal and practical employment and safety hurdles employers will now face\nBest practices for leveraging your financial position with at-risk customers\nProtecting your confidential information with an increased remote workforce
URL:https://americanmoldbuilder.com/event/the-new-normal-best-practices-for-minimizing-employment-and-financial-risk-in-covid-19-era/
LOCATION:MI
CATEGORIES:Webinar
ATTACH;FMTTYPE=image/png:https://americanmoldbuilder.com/wp-content/uploads/TAMB-Featured-Image-4x3-1.png
END:VEVENT
END:VCALENDAR