BEGIN:VCALENDAR
VERSION:2.0
PRODID:-//American Mold Builder - ECPv6.15.20//NONSGML v1.0//EN
CALSCALE:GREGORIAN
METHOD:PUBLISH
X-WR-CALNAME:American Mold Builder
X-ORIGINAL-URL:https://americanmoldbuilder.com
X-WR-CALDESC:Events for American Mold Builder
REFRESH-INTERVAL;VALUE=DURATION:PT1H
X-Robots-Tag:noindex
X-PUBLISHED-TTL:PT1H
BEGIN:VTIMEZONE
TZID:America/Chicago
BEGIN:DAYLIGHT
TZOFFSETFROM:-0600
TZOFFSETTO:-0500
TZNAME:CDT
DTSTART:20180311T080000
END:DAYLIGHT
BEGIN:STANDARD
TZOFFSETFROM:-0500
TZOFFSETTO:-0600
TZNAME:CST
DTSTART:20181104T070000
END:STANDARD
BEGIN:DAYLIGHT
TZOFFSETFROM:-0600
TZOFFSETTO:-0500
TZNAME:CDT
DTSTART:20190310T080000
END:DAYLIGHT
BEGIN:STANDARD
TZOFFSETFROM:-0500
TZOFFSETTO:-0600
TZNAME:CST
DTSTART:20191103T070000
END:STANDARD
BEGIN:DAYLIGHT
TZOFFSETFROM:-0600
TZOFFSETTO:-0500
TZNAME:CDT
DTSTART:20200308T080000
END:DAYLIGHT
BEGIN:STANDARD
TZOFFSETFROM:-0500
TZOFFSETTO:-0600
TZNAME:CST
DTSTART:20201101T070000
END:STANDARD
BEGIN:DAYLIGHT
TZOFFSETFROM:-0600
TZOFFSETTO:-0500
TZNAME:CDT
DTSTART:20210314T080000
END:DAYLIGHT
BEGIN:STANDARD
TZOFFSETFROM:-0500
TZOFFSETTO:-0600
TZNAME:CST
DTSTART:20211107T070000
END:STANDARD
BEGIN:DAYLIGHT
TZOFFSETFROM:-0600
TZOFFSETTO:-0500
TZNAME:CDT
DTSTART:20220313T080000
END:DAYLIGHT
BEGIN:STANDARD
TZOFFSETFROM:-0500
TZOFFSETTO:-0600
TZNAME:CST
DTSTART:20221106T070000
END:STANDARD
BEGIN:DAYLIGHT
TZOFFSETFROM:-0600
TZOFFSETTO:-0500
TZNAME:CDT
DTSTART:20230312T080000
END:DAYLIGHT
BEGIN:STANDARD
TZOFFSETFROM:-0500
TZOFFSETTO:-0600
TZNAME:CST
DTSTART:20231105T070000
END:STANDARD
BEGIN:DAYLIGHT
TZOFFSETFROM:-0600
TZOFFSETTO:-0500
TZNAME:CDT
DTSTART:20240310T080000
END:DAYLIGHT
BEGIN:STANDARD
TZOFFSETFROM:-0500
TZOFFSETTO:-0600
TZNAME:CST
DTSTART:20241103T070000
END:STANDARD
BEGIN:DAYLIGHT
TZOFFSETFROM:-0600
TZOFFSETTO:-0500
TZNAME:CDT
DTSTART:20250309T080000
END:DAYLIGHT
BEGIN:STANDARD
TZOFFSETFROM:-0500
TZOFFSETTO:-0600
TZNAME:CST
DTSTART:20251102T070000
END:STANDARD
BEGIN:DAYLIGHT
TZOFFSETFROM:-0600
TZOFFSETTO:-0500
TZNAME:CDT
DTSTART:20260308T080000
END:DAYLIGHT
BEGIN:STANDARD
TZOFFSETFROM:-0500
TZOFFSETTO:-0600
TZNAME:CST
DTSTART:20261101T070000
END:STANDARD
END:VTIMEZONE
BEGIN:VTIMEZONE
TZID:America/New_York
BEGIN:DAYLIGHT
TZOFFSETFROM:-0500
TZOFFSETTO:-0400
TZNAME:EDT
DTSTART:20190310T070000
END:DAYLIGHT
BEGIN:STANDARD
TZOFFSETFROM:-0400
TZOFFSETTO:-0500
TZNAME:EST
DTSTART:20191103T060000
END:STANDARD
BEGIN:DAYLIGHT
TZOFFSETFROM:-0500
TZOFFSETTO:-0400
TZNAME:EDT
DTSTART:20200308T070000
END:DAYLIGHT
BEGIN:STANDARD
TZOFFSETFROM:-0400
TZOFFSETTO:-0500
TZNAME:EST
DTSTART:20201101T060000
END:STANDARD
BEGIN:DAYLIGHT
TZOFFSETFROM:-0500
TZOFFSETTO:-0400
TZNAME:EDT
DTSTART:20210314T070000
END:DAYLIGHT
BEGIN:STANDARD
TZOFFSETFROM:-0400
TZOFFSETTO:-0500
TZNAME:EST
DTSTART:20211107T060000
END:STANDARD
END:VTIMEZONE
BEGIN:VTIMEZONE
TZID:UTC
BEGIN:STANDARD
TZOFFSETFROM:+0000
TZOFFSETTO:+0000
TZNAME:UTC
DTSTART:20180101T000000
END:STANDARD
END:VTIMEZONE
BEGIN:VEVENT
DTSTART;VALUE=DATE:20250507
DTEND;VALUE=DATE:20250510
DTSTAMP:20260424T160345
CREATED:20241122T164615Z
LAST-MODIFIED:20241122T164615Z
UID:5369-1746576000-1746835199@americanmoldbuilder.com
SUMMARY:AMBA Conference 2025
DESCRIPTION:Save the date for AMBA Conference 2025\, May 7-9\, 2025\, Grand Rapids\, MI. More details to come in Fall 2024. \nTo see the 2024 award winners\, photos and more\, visit the AMBA Conference page.
URL:https://americanmoldbuilder.com/event/amba-conference-2025/
LOCATION:Grand Rapids\, MI
CATEGORIES:Conference
ATTACH;FMTTYPE=image/webp:https://americanmoldbuilder.com/wp-content/uploads/amba-conference-logo-2025-theme.webp
END:VEVENT
BEGIN:VEVENT
DTSTART;VALUE=DATE:20250204
DTEND;VALUE=DATE:20250207
DTSTAMP:20260424T160345
CREATED:20241023T171609Z
LAST-MODIFIED:20241023T171609Z
UID:5241-1738627200-1738886399@americanmoldbuilder.com
SUMMARY:Registration is Open! Celebrate 40 Years of MD&M West!
DESCRIPTION:MD&M West\, formerly known as MD&M\, ATX\, D&M\, Plastec\, and WestPack\, invites you to a three-day event filled with new product showcases\, engaging educational sessions\, and opportunities to connect with the brightest minds in manufacturing. \n\n\nOur event brings together national and international buyers and suppliers focused on medical\, critical\, and advanced manufacturing. It’s where groundbreaking ideas are sparked\, key connections are made\, and significant progress happens—all in one convenient location. \n\n\nThis 40-year celebration is not to be missed! Register today for an Expo\, Conference\, or Workshop pass.
URL:https://americanmoldbuilder.com/event/registration-is-open-celebrate-40-years-of-mdm-west/
LOCATION:Anaheim Convention Center\, Anaheim\, CA
CATEGORIES:Conference,Convention
ATTACH;FMTTYPE=image/png:https://americanmoldbuilder.com/wp-content/uploads/TAMB-Featured-Image-4x3-1.png
END:VEVENT
BEGIN:VEVENT
DTSTART;VALUE=DATE:20240319
DTEND;VALUE=DATE:20240322
DTSTAMP:20260424T160345
CREATED:20231221T195705Z
LAST-MODIFIED:20231221T200040Z
UID:3821-1710806400-1711065599@americanmoldbuilder.com
SUMMARY:AMBA Conference 2024
DESCRIPTION:Registration is open for the 2024 AMBA Conference in Grand Rapids\, Michigan\, set for March 19-21! \nAMBA Conference 2024 will tackle the tough challenges faced by mold manufacturers today through content and connection opportunities that will motivate attendees to elevate beyond what they know\, engage with those who are moving the dial and evolve with a greater resolve! \nConference 2024 will drive off-the-chart value for attendees as mold manufacturers engage with peers and industry suppliers to discover new business strategies\, explore emerging technologies and uncover workforce development strategies that are successfully impacting retention and growth. \nFeatured content will include business strategies\, continuous improvement initiatives to produce greater efficiencies\, workforce development strategies and best practices\, advancements in technology to drive bottom-line impact and proven ROI\, leadership and communication strategies for AMBA’s Emerging Leaders\, connection opportunities to strategize with peers sharing similar job functions and much more. Learn more and register at www.ambaconference.com.
URL:https://americanmoldbuilder.com/event/amba-conference-2024/
LOCATION:Amway Grand Plaza\, Grand Rapids\, MI
CATEGORIES:Conference
ATTACH;FMTTYPE=image/png:https://americanmoldbuilder.com/wp-content/uploads/AMBA-Conference-logo-2024-theme.png
END:VEVENT
BEGIN:VEVENT
DTSTART;TZID=America/Chicago:20230822T084500
DTEND;TZID=America/Chicago:20230822T160000
DTSTAMP:20260424T160345
CREATED:20230612T214745Z
LAST-MODIFIED:20230612T214745Z
UID:3606-1692693900-1692720000@americanmoldbuilder.com
SUMMARY:GROB Systems to Host 5-AXIS LIVE! Machining Technology Event
DESCRIPTION:GROB Systems\, Inc.\, Bluffton\, Ohio\, a global leader in the development of manufacturing systems and machine tools\, announced it will be hosting a 5-AXIS LIVE! technology event\, together with nineteen of its industry partners\, at GROB’s North America headquarters and production facility in Bluffton\, Ohio on August 22nd\, 2023 from 8:45 a.m. through 4:00 p.m. The special one-day event will include informative seminars and live 5-axis machining demonstrations highlighting new machining strategies for optimizing the production of complex medical\, aerospace and mold/ die parts. Tours will be offered of the GROB 400\,000 sq. ft. facility which features vertically integrated manufacturing of machining centers and automation. The event is complimentary and manufacturing professionals are encouraged to attend. \nIn addition to live demonstrations on a full range of GROB machining centers\, other industry partners participating at 5-AXIS LIVE! are leaders in machining applications\, software\, cutting tools\, automation design and integration and more. They include Blaser\, BLUM\, Concepts NREC\, Empire Dynamics\, EMUGE-FRANKEN USA\, Fraisa\, Heidenhain\, Kennametal\, Mapal\, OPEN MIND Technologies\, Robb-Jack\, RotoClear\, Sandvik Coromant\, Schunk\, Seco\, Siemens\, ThirdWave\, Walter and Zoller. Informative seminar presentations will be conducted by Siemens covering its Sinumerik controls\, by CAD/CAM software suite developer OPEN MIND Technologies about innovative hyperMILL® CAM strategies\, and by metal cutting solutions provider Seco discussing its cutting tools for medical applications. \nA broad range of GROB 5-axis machining and automation solutions will be under power for attendees to see live demonstrations on a range of GROB G350 and G550 5-axis Universal Machining Centers\, as well as the PSS-T300 Tower Pallet Storage System and GRC Robot Cell. GROB will also have a customer panel available for attendees to learn firsthand what it is like to purchase a GROB machine. There will also be an opportunity to learn how the GROB Apprenticeship Program is successful for manufacturing workforce development to address the skills gap crisis.
URL:https://americanmoldbuilder.com/event/grob-systems-to-host-5-axis-live-machining-technology-event/
CATEGORIES:Conference
ATTACH;FMTTYPE=image/jpeg:https://americanmoldbuilder.com/wp-content/uploads/GROB-5-AXIS-LIVE-NR.jpg
END:VEVENT
BEGIN:VEVENT
DTSTART;VALUE=DATE:20230510
DTEND;VALUE=DATE:20230513
DTSTAMP:20260424T160345
CREATED:20230117T230421Z
LAST-MODIFIED:20230117T231054Z
UID:3420-1683676800-1683935999@americanmoldbuilder.com
SUMMARY:AMBA Conference 2023 'Powering Growth'
DESCRIPTION:A Conference Unlike Any Other \nSet to take place at the Amway Grand Plaza Hotel\, AMBA Conference 2023 will push the envelope as it forces attendees to think outside of the box and challenge their previous ways of doing business. \n\nMark the calendar for AMBA Conference 2023\, May 10-12\, Grand Rapids Michigan\, where the stage will be set with the conference theme\, “Powering Growth.” \nDuring this two-and-a-half-day event\, attendees will be led to think outside of the box via thought-provoking breakout sessions\, inspiring keynote presentations and numerous opportunities to connect with mold building peers. \nHighlighted Programming \n\nAn exclusive\, 3-hour pre-conference session for AMBA Emerging Leaders\nInspiring and insightful keynote presentations\nBest practices in business strategies\, profitability and leadership development\nTech trends and takeaways\nReturning: “Business over Breakfast” peer connections\n\nFor more information\, visit www.ambaconference.com.
URL:https://americanmoldbuilder.com/event/amba-conference-2023-powering-growth/
LOCATION:Amway Grand Plaza\, Grand Rapids\, MI
CATEGORIES:Conference
ATTACH;FMTTYPE=image/webp:https://americanmoldbuilder.com/wp-content/uploads/AMBA-Conference-Logo.webp
END:VEVENT
BEGIN:VEVENT
DTSTART;VALUE=DATE:20220306
DTEND;VALUE=DATE:20220310
DTSTAMP:20260424T160345
CREATED:20211206T195303Z
LAST-MODIFIED:20211206T195303Z
UID:2709-1646524800-1646870399@americanmoldbuilder.com
SUMMARY:2022 Die Casting Executive Conference
DESCRIPTION:
URL:https://americanmoldbuilder.com/event/2022-die-casting-executive-conference/
LOCATION:Casa Marina Key West\, 500 Reynolds Street\, Key West\, FL\, 3304\, United States
CATEGORIES:Conference
ATTACH;FMTTYPE=image/png:https://americanmoldbuilder.com/wp-content/uploads/TAMB-Featured-Image-4x3-1.png
END:VEVENT
BEGIN:VEVENT
DTSTART;VALUE=DATE:20210622
DTEND;VALUE=DATE:20210625
DTSTAMP:20260424T160345
CREATED:20210429T145123Z
LAST-MODIFIED:20210429T145155Z
UID:2398-1624320000-1624579199@americanmoldbuilder.com
SUMMARY:AMBA Conference 2021
DESCRIPTION:
URL:https://americanmoldbuilder.com/event/amba-conference-2021-2/
LOCATION:Amway Grand Plaza\, Grand Rapids\, MI
CATEGORIES:Conference
ATTACH;FMTTYPE=image/png:https://americanmoldbuilder.com/wp-content/uploads/TAMB-Featured-Image-4x3-1.png
END:VEVENT
BEGIN:VEVENT
DTSTART;VALUE=DATE:20210622
DTEND;VALUE=DATE:20210625
DTSTAMP:20260424T160345
CREATED:20200318T171018Z
LAST-MODIFIED:20201209T165456Z
UID:1785-1624320000-1624579199@americanmoldbuilder.com
SUMMARY:AMBA Conference 2021
DESCRIPTION:
URL:https://americanmoldbuilder.com/event/amba-conference-2021/
LOCATION:Amway Grand Hotel\, Grand Rapids\, MI
CATEGORIES:Conference
ATTACH;FMTTYPE=image/png:https://americanmoldbuilder.com/wp-content/uploads/TAMB-Featured-Image-4x3-1.png
END:VEVENT
BEGIN:VEVENT
DTSTART;VALUE=DATE:20210505
DTEND;VALUE=DATE:20210508
DTSTAMP:20260424T160345
CREATED:20190326T181328Z
LAST-MODIFIED:20210120T195510Z
UID:748-1620172800-1620431999@americanmoldbuilder.com
SUMMARY:ANTEC® 2021
DESCRIPTION:
URL:https://americanmoldbuilder.com/event/antec-2021/
LOCATION:Sheraton Downtown Denver\, Denver\, CO
CATEGORIES:Conference
ATTACH;FMTTYPE=image/png:https://americanmoldbuilder.com/wp-content/uploads/TAMB-Featured-Image-4x3-1.png
END:VEVENT
BEGIN:VEVENT
DTSTART;VALUE=DATE:20201130
DTEND;VALUE=DATE:20201205
DTSTAMP:20260424T160345
CREATED:20200923T210308Z
LAST-MODIFIED:20200923T210308Z
UID:2102-1606694400-1607126399@americanmoldbuilder.com
SUMMARY:PLASTEC Minneapolis Virtual Engineering Week 2020
DESCRIPTION:After close consultation with our industry partners\, we have agreed that it’s in the best interest of our exhibitors and attendees to cancel the 2020 in-person event and shift to a digital format. \nWe know the opportunity to connect\, learn\, and grow your business is critical\, and though we are deeply disappointed that we won’t be meeting in person this year\, we are thrilled to announce the launch of Virtual Engineering Week — coming this Fall! \nVirtual Engineering Week taking place November 30–December 4\, 2020\, was created to foster meaningful and productive engagement within the full design\, engineering\, and manufacturing communities. Look for more information coming soon about the many ways you can participate in Virtual Engineering Week.
URL:https://americanmoldbuilder.com/event/plastec-minneapolis-virtual-engineering-week-2020/
CATEGORIES:Conference,Virtual
ATTACH;FMTTYPE=image/png:https://americanmoldbuilder.com/wp-content/uploads/TAMB-Featured-Image-4x3-1.png
END:VEVENT
BEGIN:VEVENT
DTSTART;VALUE=DATE:20200928
DTEND;VALUE=DATE:20201001
DTSTAMP:20260424T160345
CREATED:20200910T145529Z
LAST-MODIFIED:20200910T145529Z
UID:2064-1601251200-1601510399@americanmoldbuilder.com
SUMMARY:Moldex3D Digital Twin Live 2020
DESCRIPTION:Moldex3D sincerely invite you to join us on Moldex3D Digital Twin Live 2020.  It is a 3-day global LIVE conference starting from September 28 – 30. \nDigital Twin presents real-world condition and allows us to achieve better molding optimization. Moldex3D helps you to gain more accurate results and smoother process through simulating in a digital world. Making Digital Twin possible is exactly what we do for molding simulation at Moldex3D!
URL:https://americanmoldbuilder.com/event/moldex3d-digital-twin-live-2020/
CATEGORIES:Conference,Online
ATTACH;FMTTYPE=image/png:https://americanmoldbuilder.com/wp-content/uploads/TAMB-Featured-Image-4x3-1.png
END:VEVENT
BEGIN:VEVENT
DTSTART;TZID=America/New_York:20200430T090000
DTEND;TZID=America/New_York:20200430T110000
DTSTAMP:20260424T160345
CREATED:20200318T171320Z
LAST-MODIFIED:20200318T171320Z
UID:1788-1588237200-1588244400@americanmoldbuilder.com
SUMMARY:AMBA Conference 2020 E-Event
DESCRIPTION:
URL:https://americanmoldbuilder.com/event/amba-conference-2020-e-event/
CATEGORIES:Conference
ATTACH;FMTTYPE=image/png:https://americanmoldbuilder.com/wp-content/uploads/TAMB-Featured-Image-4x3-1.png
END:VEVENT
BEGIN:VEVENT
DTSTART;VALUE=DATE:20200330
DTEND;VALUE=DATE:20200403
DTSTAMP:20260424T160345
CREATED:20190326T181156Z
LAST-MODIFIED:20200316T174020Z
UID:744-1585526400-1585871999@americanmoldbuilder.com
SUMMARY:ANTEC® 2020: The Virtual Edition
DESCRIPTION:Announcing ANTEC® 2020: The Virtual Edition. \nANTEC® is the premier knowledge-sharing and networking event for the plastics industry. So even though corporate travel bans and social-distancing requirements have made the networking part of ANTEC® impossible\, the knowledge-sharing will go on! \nPlease see the FAQs for more information.
URL:https://americanmoldbuilder.com/event/antec-2020-the-virtual-edition/
LOCATION:Marriott River Center\, San Antonio\, TX
CATEGORIES:Conference
ATTACH;FMTTYPE=image/png:https://americanmoldbuilder.com/wp-content/uploads/TAMB-Featured-Image-4x3-1.png
END:VEVENT
BEGIN:VEVENT
DTSTART;VALUE=DATE:20200211
DTEND;VALUE=DATE:20200214
DTSTAMP:20260424T160345
CREATED:20191211T220052Z
LAST-MODIFIED:20191211T220102Z
UID:1677-1581379200-1581638399@americanmoldbuilder.com
SUMMARY:PLASTEC West 2020
DESCRIPTION:PLASTEC West — The Proof Is in the Plastics\n\n\n\nPossibilities abound in plastics. 3D printing is disrupting how we manufacture\, well\, everything — shoes\, car components\, dental devices\, prosthetics\, casts — and injection molding has seen some fascinating developments as automation and robotics play a larger role. \nInnovation is the name of the game right now and PLASTEC West\, the largest annual plastics and polymers event\, is the stage. Meet leaders in plastics at free sessions and activities at the expo\, dig deeper on education at the 3D Printing Innovation Summit\, and find the connections and suppliers that will help you improve your plastics and processing capabilities. \n\n\n\n 
URL:https://americanmoldbuilder.com/event/plastec-west-2020/
CATEGORIES:Conference
ATTACH;FMTTYPE=image/png:https://americanmoldbuilder.com/wp-content/uploads/TAMB-Featured-Image-4x3-1.png
END:VEVENT
BEGIN:VEVENT
DTSTART;VALUE=DATE:20191023
DTEND;VALUE=DATE:20191025
DTSTAMP:20260424T160345
CREATED:20190904T185319Z
LAST-MODIFIED:20191028T153047Z
UID:1541-1571788800-1571961599@americanmoldbuilder.com
SUMMARY:MD&M Minneapolis/PLASTEC MN 2019
DESCRIPTION:  \n  \n  \n \nMD&M/PLASTEC MN\nOctober 23-24\, 2019 \nRegistration is now open for MD&M Minneapolis and PLASTEC MN\, offering targeted information for engineers conceptualizing\, designing and manufacturing next-generation medical devices. \nAttendees will come away with solutions to problems they face in their jobs every day\, along with inspiration to spur future innovations. MD&M offers three district conference tracks: \n\nTrack A: Research and Development\nTrack B: Product Development\nTrack C: Quality and Manufacturing\n\nTo meet suppliers\, test the latest technologies\, gain insight during hours of free education and to network with current and potential partners\, register here.
URL:https://americanmoldbuilder.com/event/plastec-minneapolis-2019/
LOCATION:Minneapolis Convention Center\, 1301 Second Avenue South\, Minneapolis\, MN\, 55403
CATEGORIES:Conference
ATTACH;FMTTYPE=image/png:https://americanmoldbuilder.com/wp-content/uploads/TAMB-Featured-Image-4x3-1.png
END:VEVENT
BEGIN:VEVENT
DTSTART;VALUE=DATE:20190910
DTEND;VALUE=DATE:20190913
DTSTAMP:20260424T160345
CREATED:20190904T142911Z
LAST-MODIFIED:20190904T143326Z
UID:1520-1568073600-1568332799@americanmoldbuilder.com
SUMMARY:Makino Technology Expo 2019
DESCRIPTION:
URL:https://americanmoldbuilder.com/event/makino-technology-expo-2019/
LOCATION:Makino Technology Center\, Auburn Hills\, MI
CATEGORIES:Conference
ATTACH;FMTTYPE=image/png:https://americanmoldbuilder.com/wp-content/uploads/TAMB-Featured-Image-4x3-1.png
END:VEVENT
BEGIN:VEVENT
DTSTART;VALUE=DATE:20190910
DTEND;VALUE=DATE:20190913
DTSTAMP:20260424T160345
CREATED:20190610T194540Z
LAST-MODIFIED:20190610T194540Z
UID:1165-1568073600-1568332799@americanmoldbuilder.com
SUMMARY:Electric & Hybrid Vehicle Technology Expo
DESCRIPTION:
URL:https://americanmoldbuilder.com/event/electric-hybrid-vehicle-technology-expo/
CATEGORIES:Conference
ATTACH;FMTTYPE=image/png:https://americanmoldbuilder.com/wp-content/uploads/TAMB-Featured-Image-4x3-1.png
END:VEVENT
BEGIN:VEVENT
DTSTART;VALUE=DATE:20190717
DTEND;VALUE=DATE:20190719
DTSTAMP:20260424T160345
CREATED:20190610T194434Z
LAST-MODIFIED:20190610T194558Z
UID:1163-1563321600-1563494399@americanmoldbuilder.com
SUMMARY:Environmental\, Health and Safety (EHS) Summit
DESCRIPTION:
URL:https://americanmoldbuilder.com/event/environmental-health-and-safety-ehs-summit/
CATEGORIES:Conference
ATTACH;FMTTYPE=image/png:https://americanmoldbuilder.com/wp-content/uploads/TAMB-Featured-Image-4x3-1.png
END:VEVENT
BEGIN:VEVENT
DTSTART;VALUE=DATE:20190612
DTEND;VALUE=DATE:20190614
DTSTAMP:20260424T160345
CREATED:20190610T194205Z
LAST-MODIFIED:20190610T194605Z
UID:1157-1560297600-1560470399@americanmoldbuilder.com
SUMMARY:Amerimold 2019
DESCRIPTION:
URL:https://americanmoldbuilder.com/event/amerimold-2019/
CATEGORIES:Conference
ATTACH;FMTTYPE=image/png:https://americanmoldbuilder.com/wp-content/uploads/TAMB-Featured-Image-4x3-1.png
END:VEVENT
BEGIN:VEVENT
DTSTART;VALUE=DATE:20190611
DTEND;VALUE=DATE:20190614
DTSTAMP:20260424T160345
CREATED:20190610T194026Z
LAST-MODIFIED:20190610T194610Z
UID:1153-1560211200-1560470399@americanmoldbuilder.com
SUMMARY:PLASTEC East
DESCRIPTION:
URL:https://americanmoldbuilder.com/event/plastec-east/
CATEGORIES:Conference
ATTACH;FMTTYPE=image/png:https://americanmoldbuilder.com/wp-content/uploads/TAMB-Featured-Image-4x3-1.png
END:VEVENT
BEGIN:VEVENT
DTSTART;VALUE=DATE:20190508
DTEND;VALUE=DATE:20190511
DTSTAMP:20260424T160345
CREATED:20190220T232114Z
LAST-MODIFIED:20190610T194617Z
UID:630-1557273600-1557532799@americanmoldbuilder.com
SUMMARY:AMBA Conference 2019
DESCRIPTION:
URL:https://americanmoldbuilder.com/event/amba-conference-2019/
CATEGORIES:Conference
ATTACH;FMTTYPE=image/png:https://americanmoldbuilder.com/wp-content/uploads/TAMB-Featured-Image-4x3-1.png
END:VEVENT
BEGIN:VEVENT
DTSTART;VALUE=DATE:20190227
DTEND;VALUE=DATE:20190304
DTSTAMP:20260424T160345
CREATED:20190220T225858Z
LAST-MODIFIED:20190610T194623Z
UID:624-1551225600-1551657599@americanmoldbuilder.com
SUMMARY:AMBA Leadership Summit 2019
DESCRIPTION:
URL:https://americanmoldbuilder.com/event/amba-leadership-summit-2019/
LOCATION:St. Kitts Marriot Resort & Royal Beach Casino
CATEGORIES:Conference
ATTACH;FMTTYPE=image/png:https://americanmoldbuilder.com/wp-content/uploads/TAMB-Featured-Image-4x3-1.png
END:VEVENT
END:VCALENDAR